BEGIN:VCALENDAR
VERSION:2.0
PRODID:-//Couzeix Running Club - ECPv6.15.20//NONSGML v1.0//EN
CALSCALE:GREGORIAN
METHOD:PUBLISH
X-WR-CALNAME:Couzeix Running Club
X-ORIGINAL-URL:https://couzeix-running-club.fr
X-WR-CALDESC:Évènements pour Couzeix Running Club
REFRESH-INTERVAL;VALUE=DURATION:PT1H
X-Robots-Tag:noindex
X-PUBLISHED-TTL:PT1H
BEGIN:VTIMEZONE
TZID:Europe/Paris
BEGIN:DAYLIGHT
TZOFFSETFROM:+0100
TZOFFSETTO:+0200
TZNAME:CEST
DTSTART:20250330T010000
END:DAYLIGHT
BEGIN:STANDARD
TZOFFSETFROM:+0200
TZOFFSETTO:+0100
TZNAME:CET
DTSTART:20251026T010000
END:STANDARD
BEGIN:DAYLIGHT
TZOFFSETFROM:+0100
TZOFFSETTO:+0200
TZNAME:CEST
DTSTART:20260329T010000
END:DAYLIGHT
BEGIN:STANDARD
TZOFFSETFROM:+0200
TZOFFSETTO:+0100
TZNAME:CET
DTSTART:20261025T010000
END:STANDARD
BEGIN:DAYLIGHT
TZOFFSETFROM:+0100
TZOFFSETTO:+0200
TZNAME:CEST
DTSTART:20270328T010000
END:DAYLIGHT
BEGIN:STANDARD
TZOFFSETFROM:+0200
TZOFFSETTO:+0100
TZNAME:CET
DTSTART:20271031T010000
END:STANDARD
END:VTIMEZONE
BEGIN:VEVENT
DTSTART;TZID=Europe/Paris:20260517T080000
DTEND;TZID=Europe/Paris:20260517T170000
DTSTAMP:20260422T023348
CREATED:20260408T205630Z
LAST-MODIFIED:20260408T205630Z
UID:6575-1779004800-1779037200@couzeix-running-club.fr
SUMMARY:La Transpirante Vithalia
DESCRIPTION:Un parcours dynamique empruntant une partie de la voie verte entre Malemort et Dampniat\, accessible dès la catégorie Cadets\, avec une ambiance conviviale et sportive \n12.4km : Mireille VERSAVAUD\, Aurore LABOUAL
URL:https://couzeix-running-club.fr/course/la-transpirante-vithalia/
LOCATION:MALEMORT SUR CORREZE
CATEGORIES:Course route
ATTACH;FMTTYPE=image/jpeg:https://couzeix-running-club.fr/wp-content/uploads/2026/04/Affiche-La-Transpirante-2026-D.jpg
END:VEVENT
BEGIN:VEVENT
DTSTART;TZID=Europe/Paris:20260523T080000
DTEND;TZID=Europe/Paris:20260524T170000
DTSTAMP:20260422T023348
CREATED:20260326T211253Z
LAST-MODIFIED:20260326T211253Z
UID:6564-1779523200-1779642000@couzeix-running-club.fr
SUMMARY:MARATHON DE ROYAN COTE DE BEAUTE
DESCRIPTION:La Charente-Maritime vous accueille. Le Marathon Royan Cote de Beauté pour sa dixième édition se déroulera le dimanche 24 mai 2026 dans un cadre de rêve. Au programme : marathon solo\, semi-marathon et un 10 km.Longeant la rive droite de l’estuaire de la Gironde\, le Marathon Royan Côte de Beauté nous régale de ses panoramas. Bon\, pense quand même à regarder la route entre deux “woaw” face au paysage ! \n10km : Laetitia Cabrol\, Nathalie Gaborieau\, Fabienne Cabrol\, Mireille Versavaud\nsemi marathon : Oceane Riffaud\, Fanny Germannaud\, Julie Thomas\nmarathon : Francis Gaborieau\, Thibaut Jallet
URL:https://couzeix-running-club.fr/course/marathon-de-royan-cote-de-beaute/
LOCATION:Royan
CATEGORIES:Course route,Marathon,Semi-marathon
ATTACH;FMTTYPE=image/png:https://couzeix-running-club.fr/wp-content/uploads/2026/03/Affiche-MRCB.png
END:VEVENT
END:VCALENDAR